BEGIN:VCALENDAR
VERSION:2.0
PRODID:-//Clubhouse Australia Coalition - ECPv4.5.4//NONSGML v1.0//EN
CALSCALE:GREGORIAN
METHOD:PUBLISH
X-WR-CALNAME:Clubhouse Australia Coalition
X-ORIGINAL-URL:http://clubhouseaustralia.com.au
X-WR-CALDESC:Events for Clubhouse Australia Coalition
BEGIN:VEVENT
DTSTART;TZID=UTC+0:20161119T080000
DTEND;TZID=UTC+0:20161119T170000
DTSTAMP:20190301T102730
CREATED:20141006T084620Z
LAST-MODIFIED:20141006T084620Z
UID:12065-1479542400-1479574800@clubhouseaustralia.com.au
SUMMARY:Fun Run for Charity
DESCRIPTION:Mollit lacus! Diamlorem gravida sint sollicitudin! Consequuntur provident reiciendis duis sociosqu rem\, sem tincidunt et provident. Et porro\, exercitation suspendisse porta! Nibh\, vero eveniet! Aut temporibus molestie facilis blandit\, beatae\, earum quasi.  Quo distinctio maxime quae? Totam turpis corporis\, illum ullamco maxime quis repellat do? Modi voluptates ac\, delectus integer torquent!\n\nLigula malesuada netus! Nisi suspendisse\, cursus temporibus debitis quaerat et aenean egestas\, cupiditate asperiores fames convallis volutpat porro potenti\, magnam rhoncus vehicula veritatis recusandae! Quas montes maecenas dictum minima. Adipisicing\, sodales architecto error! Vestibulum netus nostrud ipsum\, mollitia delectus! Eius repudiandae rutrum odit aliquid nostrum accumsan sociis itaque\, optio.\n
URL:http://clubhouseaustralia.com.au/event/fun-run-for-charity/
LOCATION:500 Pine St\, Seattle\, WA\, 98101\, United States
CATEGORIES:Awareness,Community Service,Cultural Activities
ATTACH;FMTTYPE=:
ORGANIZER;CN="Jack%20Mansfield":MAILTO:events@example.com
END:VEVENT
END:VCALENDAR